BEGIN:VCALENDAR
VERSION:2.0
PRODID:-//wp-events-plugin.com//7.2.3.1//EN
TZID:Europe/Paris
X-WR-TIMEZONE:Europe/Paris
BEGIN:VEVENT
UID:110488@l-agenda.ch
DTSTART;TZID=Europe/Paris:20241109T200000
DTEND;TZID=Europe/Paris:20241109T200000
DTSTAMP:20241022T095558Z
URL:https://www.l-agenda.ch/evenements/hakim-jemili-fatigue-2024-11-09/
SUMMARY:Hakim Jemili - Fatigué
DESCRIPTION:Seul en scène humoristique
ATTACH;FMTTYPE=image/jpeg:https://www.l-agenda.ch/wp-content/uploads/2024/
 10/Hakim-Jemili.jpg
CATEGORIES:Improvisation | Humour | Stand-up,Théâtre
LOCATION:Théâtre du Léman\, Quai du Mont-Blanc 18\, Genève\, GE\, 1201\
 , Genève\, Suisse
GEO:46.210479;6.151682
X-APPLE-STRUCTURED-LOCATION;VALUE=URI;X-ADDRESS=Quai du Mont-Blanc 18\, Gen
 ève\, GE\, 1201\, Genève\, Suisse;X-APPLE-RADIUS=100;X-TITLE=Théâtre d
 u Léman:geo:46.210479,6.151682
END:VEVENT
BEGIN:VTIMEZONE
TZID:Europe/Paris
X-LIC-LOCATION:Europe/Paris
BEGIN:STANDARD
DTSTART:20241027T020000
TZOFFSETFROM:+0200
TZOFFSETTO:+0100
TZNAME:CET
END:STANDARD
END:VTIMEZONE
END:VCALENDAR