BEGIN:VCALENDAR
VERSION:2.0
PRODID:-//wp-events-plugin.com//7.2.3.1//EN
TZID:Europe/Paris
X-WR-TIMEZONE:Europe/Paris
BEGIN:VEVENT
UID:97170@l-agenda.ch
DTSTART;TZID=Europe/Paris:20230928T200000
DTEND;TZID=Europe/Paris:20231001T200000
DTSTAMP:20230716T155340Z
URL:https://www.l-agenda.ch/event-recurring/guintche-live-version/
SUMMARY:Guintche (live version)
DESCRIPTION:Solo burlesque sur musique live
ATTACH;FMTTYPE=image/jpeg:https://www.l-agenda.ch/wp-content/uploads/2023/
 07/Guintche.jpg
CATEGORIES:Danse,Danse contemporaine | Néo-classique
LOCATION:Pavillon ADC\, Place Sturm 1\, Genève\, GE\, 1206\, Genève\, Sui
 sse
GEO:46.199508;6.153507
X-APPLE-STRUCTURED-LOCATION;VALUE=URI;X-ADDRESS=Place Sturm 1\, Genève\, G
 E\, 1206\, Genève\, Suisse;X-APPLE-RADIUS=100;X-TITLE=Pavillon ADC:geo:46
 .199508,6.153507
END:VEVENT
BEGIN:VTIMEZONE
TZID:Europe/Paris
X-LIC-LOCATION:Europe/Paris
BEGIN:DAYLIGHT
DTSTART:20230326T030000
TZOFFSETFROM:+0100
TZOFFSETTO:+0200
TZNAME:CEST
END:DAYLIGHT
END:VTIMEZONE
END:VCALENDAR