BEGIN:VCALENDAR
VERSION:2.0
PRODID:-//wp-events-plugin.com//7.2.3.1//EN
TZID:Europe/Paris
X-WR-TIMEZONE:Europe/Paris
BEGIN:VEVENT
UID:120557@l-agenda.ch
DTSTART;TZID=Europe/Paris:20261031T110000
DTEND;TZID=Europe/Paris:20261031T110000
DTSTAMP:20260330T094545Z
URL:https://www.l-agenda.ch/evenements/griff-et-les-fabulopteres/
SUMMARY:Griff et les Fabuloptères
DESCRIPTION:Illustrations animées en musique\, dès 4 ans
ATTACH;FMTTYPE=image/jpeg:https://www.l-agenda.ch/wp-content/uploads/2026/
 03/Griff-et-les-Fabulopteres.jpg
CATEGORIES:Orchestre | Ensemble | Instrument | Chambre,Comédie musicale |
 Spectacle musical,Jeune public
LOCATION:Eglise Saint-Jacques\, Avenue du Léman 26\, Lausanne\, VD\, 1005\
 , Lausanne\, Suisse
GEO:46.515503;6.647486
X-APPLE-STRUCTURED-LOCATION;VALUE=URI;X-ADDRESS=Avenue du Léman 26\, Lausa
 nne\, VD\, 1005\, Lausanne\, Suisse;X-APPLE-RADIUS=100;X-TITLE=Eglise Sain
 t-Jacques:geo:46.515503,6.647486
END:VEVENT
BEGIN:VTIMEZONE
TZID:Europe/Paris
X-LIC-LOCATION:Europe/Paris
BEGIN:STANDARD
DTSTART:20261025T020000
TZOFFSETFROM:+0200
TZOFFSETTO:+0100
TZNAME:CET
END:STANDARD
END:VTIMEZONE
END:VCALENDAR