BEGIN:VCALENDAR
VERSION:2.0
PRODID:-//wp-events-plugin.com//7.2.3.1//EN
TZID:Europe/Paris
X-WR-TIMEZONE:Europe/Paris
BEGIN:VEVENT
UID:115597@l-agenda.ch
DTSTART;TZID=Europe/Paris;VALUE=DATE:20250404
DTEND;TZID=Europe/Paris;VALUE=DATE:20250801
DTSTAMP:20250522T142159Z
URL:https://www.l-agenda.ch/evenements/grands-ecarts/
SUMMARY:Grands Écarts
DESCRIPTION:Exposition de photographies de Carla da Silva
ATTACH;FMTTYPE=image/jpeg:https://www.l-agenda.ch/wp-content/uploads/2025/
 05/Grands-Ecarts.jpg
CATEGORIES:Exposition temporaire
LOCATION:Boléro\, Chemin J.-B. Vandelle 8\, Versoix\, GE\, 1290\, Genève\
 , Suisse
GEO:46.281089;6.165265
X-APPLE-STRUCTURED-LOCATION;VALUE=URI;X-ADDRESS=Chemin J.-B. Vandelle 8\, V
 ersoix\, GE\, 1290\, Genève\, Suisse;X-APPLE-RADIUS=100;X-TITLE=Boléro:g
 eo:46.281089,6.165265
END:VEVENT
BEGIN:VTIMEZONE
TZID:Europe/Paris
X-LIC-LOCATION:Europe/Paris
BEGIN:DAYLIGHT
DTSTART:20250330T030000
TZOFFSETFROM:+0100
TZOFFSETTO:+0200
TZNAME:CEST
END:DAYLIGHT
END:VTIMEZONE
END:VCALENDAR