BEGIN:VCALENDAR
VERSION:2.0
PRODID:-//wp-events-plugin.com//7.2.3.1//EN
TZID:Europe/Paris
X-WR-TIMEZONE:Europe/Paris
BEGIN:VEVENT
UID:120587@l-agenda.ch
DTSTART;TZID=Europe/Paris:20260510T170000
DTEND;TZID=Europe/Paris:20260510T170000
DTSTAMP:20260413T093241Z
URL:https://www.l-agenda.ch/evenements/gloria-de-vivaldi/
SUMMARY:Gloria de Vivaldi
DESCRIPTION:Choeur de Pontverre et Geneva Brass
ATTACH;FMTTYPE=image/jpeg:https://www.l-agenda.ch/wp-content/uploads/2024/
 03/Vivaldi-Gloria.jpg
CATEGORIES:Classique,Opéra | Lyrique | Voix,Orchestre | Ensemble |
 Instrument | Chambre
LOCATION:Temple de la Madeleine\, Rue de Toutes-Ames\, Genève\, GE\, 1204\
 , Genève\, Suisse
GEO:46.201978;6.14915
X-APPLE-STRUCTURED-LOCATION;VALUE=URI;X-ADDRESS=Rue de Toutes-Ames\, Genèv
 e\, GE\, 1204\, Genève\, Suisse;X-APPLE-RADIUS=100;X-TITLE=Temple de la M
 adeleine:geo:46.201978,6.14915
END:VEVENT
BEGIN:VTIMEZONE
TZID:Europe/Paris
X-LIC-LOCATION:Europe/Paris
BEGIN:DAYLIGHT
DTSTART:20260329T030000
TZOFFSETFROM:+0100
TZOFFSETTO:+0200
TZNAME:CEST
END:DAYLIGHT
END:VTIMEZONE
END:VCALENDAR