BEGIN:VCALENDAR
VERSION:2.0
PRODID:-//wp-events-plugin.com//7.2.3.1//EN
TZID:Europe/Paris
X-WR-TIMEZONE:Europe/Paris
BEGIN:VEVENT
UID:110938@l-agenda.ch
DTSTART;TZID=Europe/Paris:20250509T200000
DTEND;TZID=Europe/Paris:20250509T200000
DTSTAMP:20241104T102758Z
URL:https://www.l-agenda.ch/evenements/glass-for-two-2025-05-09/
SUMMARY:Glass for Two
DESCRIPTION:Hommage au maitre du minimalisme\, piano et vibraphone
ATTACH;FMTTYPE=image/jpeg:https://www.l-agenda.ch/wp-content/uploads/2024/
 11/Glass-for-Two.webp
CATEGORIES:Classique,Musique contemporaine
LOCATION:Château d'Aigle\, Place du Château 1\, Aigle\, VD\, 1860\, Aigle
 \, Suisse
GEO:46.318819;6.964261
X-APPLE-STRUCTURED-LOCATION;VALUE=URI;X-ADDRESS=Place du Château 1\, Aigle
 \, VD\, 1860\, Aigle\, Suisse;X-APPLE-RADIUS=100;X-TITLE=Château d'Aigle:
 geo:46.318819,6.964261
END:VEVENT
BEGIN:VTIMEZONE
TZID:Europe/Paris
X-LIC-LOCATION:Europe/Paris
BEGIN:DAYLIGHT
DTSTART:20250330T030000
TZOFFSETFROM:+0100
TZOFFSETTO:+0200
TZNAME:CEST
END:DAYLIGHT
END:VTIMEZONE
END:VCALENDAR