BEGIN:VCALENDAR
VERSION:2.0
PRODID:-//wp-events-plugin.com//7.2.3.1//EN
TZID:Europe/Paris
X-WR-TIMEZONE:Europe/Paris
BEGIN:VEVENT
UID:109413@l-agenda.ch
DTSTART;TZID=Europe/Paris:20241201T160000
DTEND;TZID=Europe/Paris:20241201T160000
DTSTAMP:20240916T122516Z
URL:https://www.l-agenda.ch/evenements/gioia-cantar/
SUMMARY:Gioia Cantar
DESCRIPTION:Ensemble vocal et instrumental de musique baroque
ATTACH;FMTTYPE=image/jpeg:https://www.l-agenda.ch/wp-content/uploads/2024/
 09/Gioia-Cantar.png
CATEGORIES:Classique,Opéra | Lyrique | Voix,Orchestre | Ensemble |
 Instrument | Chambre
LOCATION:Temple de la Tour-de-Peilz\, Temple\, La Tour-de-Peilz\, VD\, 1814
 \, Riviera\, Suisse
GEO:46.453616;6.856968
X-APPLE-STRUCTURED-LOCATION;VALUE=URI;X-ADDRESS=Temple\, La Tour-de-Peilz\,
  VD\, 1814\, Riviera\, Suisse;X-APPLE-RADIUS=100;X-TITLE=Temple de la Tour
 -de-Peilz:geo:46.453616,6.856968
END:VEVENT
BEGIN:VTIMEZONE
TZID:Europe/Paris
X-LIC-LOCATION:Europe/Paris
BEGIN:STANDARD
DTSTART:20241027T020000
TZOFFSETFROM:+0200
TZOFFSETTO:+0100
TZNAME:CET
END:STANDARD
END:VTIMEZONE
END:VCALENDAR