BEGIN:VCALENDAR
VERSION:2.0
PRODID:-//wp-events-plugin.com//7.2.3.1//EN
TZID:Europe/Paris
X-WR-TIMEZONE:Europe/Paris
BEGIN:VEVENT
UID:109417@l-agenda.ch
DTSTART;TZID=Europe/Paris:20241130T200000
DTEND;TZID=Europe/Paris:20241130T200000
DTSTAMP:20240916T122801Z
URL:https://www.l-agenda.ch/evenements/gioia-cantar-5/
SUMMARY:Gioia Cantar
DESCRIPTION:Ensemble vocal et instrumental de musique baroque
ATTACH;FMTTYPE=image/jpeg:https://www.l-agenda.ch/wp-content/uploads/2024/
 09/Gioia-Cantar.png
CATEGORIES:Classique,Opéra | Lyrique | Voix,Orchestre | Ensemble |
 Instrument | Chambre
LOCATION:Temple de la Madeleine\, Rue de Toutes-Ames\, Genève\, GE\, 1204\
 , Genève\, Suisse
GEO:46.201978;6.14915
X-APPLE-STRUCTURED-LOCATION;VALUE=URI;X-ADDRESS=Rue de Toutes-Ames\, Genèv
 e\, GE\, 1204\, Genève\, Suisse;X-APPLE-RADIUS=100;X-TITLE=Temple de la M
 adeleine:geo:46.201978,6.14915
END:VEVENT
BEGIN:VTIMEZONE
TZID:Europe/Paris
X-LIC-LOCATION:Europe/Paris
BEGIN:STANDARD
DTSTART:20241027T020000
TZOFFSETFROM:+0200
TZOFFSETTO:+0100
TZNAME:CET
END:STANDARD
END:VTIMEZONE
END:VCALENDAR