BEGIN:VCALENDAR
VERSION:2.0
PRODID:-//wp-events-plugin.com//7.2.3.1//EN
TZID:Europe/Paris
X-WR-TIMEZONE:Europe/Paris
BEGIN:VEVENT
UID:109416@l-agenda.ch
DTSTART;TZID=Europe/Paris:20241117T170000
DTEND;TZID=Europe/Paris:20241117T170000
DTSTAMP:20240916T122735Z
URL:https://www.l-agenda.ch/evenements/gioia-cantar-4/
SUMMARY:Gioia Cantar
DESCRIPTION:Ensemble vocal et instrumental de musique baroque
ATTACH;FMTTYPE=image/jpeg:https://www.l-agenda.ch/wp-content/uploads/2024/
 09/Gioia-Cantar.png
CATEGORIES:Classique,Opéra | Lyrique | Voix,Orchestre | Ensemble |
 Instrument | Chambre
LOCATION:Temple Saint-Paul\, Place du Temple\, Villeneuve\, VD\, 1844\, Aig
 le\, Suisse
GEO:46.396373;6.925017
X-APPLE-STRUCTURED-LOCATION;VALUE=URI;X-ADDRESS=Place du Temple\, Villeneuv
 e\, VD\, 1844\, Aigle\, Suisse;X-APPLE-RADIUS=100;X-TITLE=Temple Saint-Pau
 l:geo:46.396373,6.925017
END:VEVENT
BEGIN:VTIMEZONE
TZID:Europe/Paris
X-LIC-LOCATION:Europe/Paris
BEGIN:STANDARD
DTSTART:20241027T020000
TZOFFSETFROM:+0200
TZOFFSETTO:+0100
TZNAME:CET
END:STANDARD
END:VTIMEZONE
END:VCALENDAR