BEGIN:VCALENDAR
VERSION:2.0
PRODID:-//wp-events-plugin.com//7.2.3.1//EN
TZID:Europe/Paris
X-WR-TIMEZONE:Europe/Paris
BEGIN:VEVENT
UID:109415@l-agenda.ch
DTSTART;TZID=Europe/Paris:20241116T193000
DTEND;TZID=Europe/Paris:20241116T193000
DTSTAMP:20240916T122648Z
URL:https://www.l-agenda.ch/evenements/gioia-cantar-3/
SUMMARY:Gioia Cantar
DESCRIPTION:Ensemble vocal et instrumental de musique baroque
ATTACH;FMTTYPE=image/jpeg:https://www.l-agenda.ch/wp-content/uploads/2024/
 09/Gioia-Cantar.png
CATEGORIES:Classique,Opéra | Lyrique | Voix,Orchestre | Ensemble |
 Instrument | Chambre
LOCATION:Temple de Lutry\, Place du Temple\, Lutry\, VD\, 1095\, Lavaux-Oro
 n\, Suisse
GEO:46.502497;6.686407
X-APPLE-STRUCTURED-LOCATION;VALUE=URI;X-ADDRESS=Place du Temple\, Lutry\, V
 D\, 1095\, Lavaux-Oron\, Suisse;X-APPLE-RADIUS=100;X-TITLE=Temple de Lutry
 :geo:46.502497,6.686407
END:VEVENT
BEGIN:VTIMEZONE
TZID:Europe/Paris
X-LIC-LOCATION:Europe/Paris
BEGIN:STANDARD
DTSTART:20241027T020000
TZOFFSETFROM:+0200
TZOFFSETTO:+0100
TZNAME:CET
END:STANDARD
END:VTIMEZONE
END:VCALENDAR