BEGIN:VCALENDAR
VERSION:2.0
PRODID:-//wp-events-plugin.com//7.2.3.1//EN
TZID:Europe/Paris
X-WR-TIMEZONE:Europe/Paris
BEGIN:VEVENT
UID:116716@l-agenda.ch
DTSTART;TZID=Europe/Paris;VALUE=DATE:20250904
DTEND;TZID=Europe/Paris;VALUE=DATE:20251215
DTSTAMP:20250901T073508Z
URL:https://www.l-agenda.ch/evenements/get-rich-or-die-tryin-les-promesses
 -du-rap/
SUMMARY:Get Rich or Die Tryin' – Les promesses du rap
DESCRIPTION:L'histoire de la culture hip-hop
ATTACH;FMTTYPE=image/jpeg:https://www.l-agenda.ch/wp-content/uploads/2025/
 08/Get-Rich-or-Die-Tryin.jpg
CATEGORIES:Exposition temporaire
LOCATION:La Ferme des Tilleuls\, Rue de Lausanne 52\, Renens\, VD\, 1020\, 
 Ouest lausannois\, Suisse
GEO:46.533738;6.589875
X-APPLE-STRUCTURED-LOCATION;VALUE=URI;X-ADDRESS=Rue de Lausanne 52\, Renens
 \, VD\, 1020\, Ouest lausannois\, Suisse;X-APPLE-RADIUS=100;X-TITLE=La Fer
 me des Tilleuls:geo:46.533738,6.589875
END:VEVENT
BEGIN:VTIMEZONE
TZID:Europe/Paris
X-LIC-LOCATION:Europe/Paris
BEGIN:DAYLIGHT
DTSTART:20250330T030000
TZOFFSETFROM:+0100
TZOFFSETTO:+0200
TZNAME:CEST
END:DAYLIGHT
BEGIN:STANDARD
DTSTART:20251026T020000
TZOFFSETFROM:+0200
TZOFFSETTO:+0100
TZNAME:CET
END:STANDARD
END:VTIMEZONE
END:VCALENDAR