BEGIN:VCALENDAR
VERSION:2.0
PRODID:-//wp-events-plugin.com//7.2.3.1//EN
TZID:Europe/Paris
X-WR-TIMEZONE:Europe/Paris
BEGIN:VEVENT
UID:115133@l-agenda.ch
DTSTART;TZID=Europe/Paris:20260508T194500
DTEND;TZID=Europe/Paris:20260509T194500
DTSTAMP:20260413T092818Z
URL:https://www.l-agenda.ch/evenements/geneva-blues-festival-2025-05-16/
SUMMARY:Geneva Blues Festival
DESCRIPTION:Geneva Blues Band\, Toby Lee\, Larissa Baumann\, Matt Schofield
  
ATTACH;FMTTYPE=image/jpeg:https://www.l-agenda.ch/wp-content/uploads/2025/
 03/Blues-festival.webp
CATEGORIES:Festival,Musique actuelle,Soul | R'n'B
LOCATION:Alhambra\, Rue de la Rôtisserie 10\, Genève\, GE\, 1204\, Genèv
 e\, Suisse
GEO:46.202602;6.146651
X-APPLE-STRUCTURED-LOCATION;VALUE=URI;X-ADDRESS=Rue de la Rôtisserie 10\, 
 Genève\, GE\, 1204\, Genève\, Suisse;X-APPLE-RADIUS=100;X-TITLE=Alhambra
 :geo:46.202602,6.146651
END:VEVENT
BEGIN:VTIMEZONE
TZID:Europe/Paris
X-LIC-LOCATION:Europe/Paris
BEGIN:DAYLIGHT
DTSTART:20260329T030000
TZOFFSETFROM:+0100
TZOFFSETTO:+0200
TZNAME:CEST
END:DAYLIGHT
END:VTIMEZONE
END:VCALENDAR