BEGIN:VCALENDAR
VERSION:2.0
PRODID:-//wp-events-plugin.com//7.2.3.1//EN
TZID:Europe/Paris
X-WR-TIMEZONE:Europe/Paris
BEGIN:VEVENT
UID:109406@l-agenda.ch
DTSTART;TZID=Europe/Paris:20260606T190000
DTEND;TZID=Europe/Paris:20260606T190000
DTSTAMP:20260414T142934Z
URL:https://www.l-agenda.ch/evenements/gala-douverture-catch-impro/
SUMMARY:Doublages improvisés
DESCRIPTION:Doublages improvisés de films cultes\, de publicités\, de sé
 ries oubliées des années 90
ATTACH;FMTTYPE=image/jpeg:https://www.l-agenda.ch/wp-content/uploads/2024/
 09/Alliance-creative.jpg
CATEGORIES:Théâtre,Festival,Improvisation | Humour | Stand-up
LOCATION:Le Cube\, Avenue de Vertou 2C\, Morges\, VD\, 1110\, Morges\, Suis
 se
GEO:46.516239;6.500802
X-APPLE-STRUCTURED-LOCATION;VALUE=URI;X-ADDRESS=Avenue de Vertou 2C\, Morge
 s\, VD\, 1110\, Morges\, Suisse;X-APPLE-RADIUS=100;X-TITLE=Le Cube:geo:46.
 516239,6.500802
END:VEVENT
BEGIN:VTIMEZONE
TZID:Europe/Paris
X-LIC-LOCATION:Europe/Paris
BEGIN:DAYLIGHT
DTSTART:20260329T030000
TZOFFSETFROM:+0100
TZOFFSETTO:+0200
TZNAME:CEST
END:DAYLIGHT
END:VTIMEZONE
END:VCALENDAR