BEGIN:VCALENDAR
VERSION:2.0
PRODID:-//wp-events-plugin.com//7.2.3.1//EN
TZID:Europe/Paris
X-WR-TIMEZONE:Europe/Paris
BEGIN:VEVENT
UID:103808@l-agenda.ch
DTSTART;TZID=Europe/Paris:20240303T133000
DTEND;TZID=Europe/Paris:20240303T133000
DTSTAMP:20240114T164026Z
URL:https://www.l-agenda.ch/evenements/frehel-cest-moi-25/
SUMMARY:Fréhel c'est moi
DESCRIPTION:Rencontre autour de la pièce jouée au Théâtre de Carouge
ATTACH;FMTTYPE=image/jpeg:https://www.l-agenda.ch/wp-content/uploads/2023/
 10/spectacles-site-frehelcestmoi-960x408-c-default.jpg
CATEGORIES:Conférence | Rencontre,Documentaire | Documenté | Autofiction
LOCATION:Bibliothèque de la Cité\, Place des Trois-Perdrix 5\, Genève\, 
 GE\, 1204\, Genève\, Suisse
GEO:46.20276;6.145112
X-APPLE-STRUCTURED-LOCATION;VALUE=URI;X-ADDRESS=Place des Trois-Perdrix 5\,
  Genève\, GE\, 1204\, Genève\, Suisse;X-APPLE-RADIUS=100;X-TITLE=Bibliot
 hèque de la Cité:geo:46.20276,6.145112
END:VEVENT
BEGIN:VTIMEZONE
TZID:Europe/Paris
X-LIC-LOCATION:Europe/Paris
BEGIN:STANDARD
DTSTART:20231029T020000
TZOFFSETFROM:+0200
TZOFFSETTO:+0100
TZNAME:CET
END:STANDARD
END:VTIMEZONE
END:VCALENDAR