BEGIN:VCALENDAR
VERSION:2.0
PRODID:-//wp-events-plugin.com//7.2.3.1//EN
TZID:Europe/Paris
X-WR-TIMEZONE:Europe/Paris
BEGIN:VEVENT
UID:119097@l-agenda.ch
DTSTART;TZID=Europe/Paris:20251204T200000
DTEND;TZID=Europe/Paris:20251204T200000
DTSTAMP:20251126T165024Z
URL:https://www.l-agenda.ch/evenements/francesco-durso-et-carlotta-bulgare
 lli/
SUMMARY:Francesco D'Urso et Carlotta Bulgarelli
DESCRIPTION:Duo trombone et harpe
ATTACH;FMTTYPE=image/jpeg:https://www.l-agenda.ch/wp-content/uploads/2025/
 11/Urso-Bulgarelli.jpg
CATEGORIES:Classique,Orchestre | Ensemble | Instrument | Chambre
LOCATION:Ferme Sarasin\, Chemin Edouard-Sarasin 47\, Le Grand-Saconnex\, GE
 \, 1218\, Genève\, Suisse
GEO:46.232829;6.122012
X-APPLE-STRUCTURED-LOCATION;VALUE=URI;X-ADDRESS=Chemin Edouard-Sarasin 47\,
  Le Grand-Saconnex\, GE\, 1218\, Genève\, Suisse;X-APPLE-RADIUS=100;X-TIT
 LE=Ferme Sarasin:geo:46.232829,6.122012
END:VEVENT
BEGIN:VTIMEZONE
TZID:Europe/Paris
X-LIC-LOCATION:Europe/Paris
BEGIN:STANDARD
DTSTART:20251026T020000
TZOFFSETFROM:+0200
TZOFFSETTO:+0100
TZNAME:CET
END:STANDARD
END:VTIMEZONE
END:VCALENDAR