BEGIN:VCALENDAR
VERSION:2.0
PRODID:-//wp-events-plugin.com//7.2.3.1//EN
TZID:Europe/Paris
X-WR-TIMEZONE:Europe/Paris
BEGIN:VEVENT
UID:118040@l-agenda.ch
DTSTART;TZID=Europe/Paris:20251021T190000
DTEND;TZID=Europe/Paris:20251021T190000
DTSTAMP:20251020T093735Z
URL:https://www.l-agenda.ch/evenements/fragments-dun-parcours-amoureux-de-
 chloe-barreau/
SUMMARY:"Fragments d'un parcours amoureux" de Chloé Barreau
DESCRIPTION:Documentaire de Chloé Barreau\, entre l'autobiographie et l'en
 quête journalistique 
ATTACH;FMTTYPE=image/jpeg:https://www.l-agenda.ch/wp-content/uploads/2025/
 10/fragments-dun-parcours-amoureux.jpg
CATEGORIES:Projection | Film,Conférence | Rencontre
LOCATION:Les Cinémas du Grütli\, Rue Général-Dufour 16\, Genève\, GE\,
  1204\, Genève\, Suisse
GEO:46.201122;6.141395
X-APPLE-STRUCTURED-LOCATION;VALUE=URI;X-ADDRESS=Rue Général-Dufour 16\, G
 enève\, GE\, 1204\, Genève\, Suisse;X-APPLE-RADIUS=100;X-TITLE=Les Ciné
 mas du Grütli:geo:46.201122,6.141395
END:VEVENT
BEGIN:VTIMEZONE
TZID:Europe/Paris
X-LIC-LOCATION:Europe/Paris
BEGIN:DAYLIGHT
DTSTART:20250330T030000
TZOFFSETFROM:+0100
TZOFFSETTO:+0200
TZNAME:CEST
END:DAYLIGHT
END:VTIMEZONE
END:VCALENDAR