BEGIN:VCALENDAR
VERSION:2.0
PRODID:-//wp-events-plugin.com//7.2.3.1//EN
TZID:Europe/Paris
X-WR-TIMEZONE:Europe/Paris
BEGIN:VEVENT
UID:115370@l-agenda.ch
DTSTART;TZID=Europe/Paris;VALUE=DATE:20250517
DTEND;TZID=Europe/Paris;VALUE=DATE:20250611
DTSTAMP:20250516T140027Z
URL:https://www.l-agenda.ch/evenements/fragmentin-efficient-ways/
SUMMARY:Fragmentin - Efficient Ways
DESCRIPTION:L'exposition questionne les infrastructures numériques et leur
  impact sur nos territoires
ATTACH;FMTTYPE=image/jpeg:https://www.l-agenda.ch/wp-content/uploads/2025/
 05/Fragmentin.jpg
CATEGORIES:Exposition temporaire
LOCATION:V V Espace vaudois d'art contemporain\, Parc Mon-Repos 3\, Lausann
 e\, VD\, 1005\, Lausanne\, Suisse
GEO:46.518697;6.643689
X-APPLE-STRUCTURED-LOCATION;VALUE=URI;X-ADDRESS=Parc Mon-Repos 3\, Lausanne
 \, VD\, 1005\, Lausanne\, Suisse;X-APPLE-RADIUS=100;X-TITLE=V V Espace vau
 dois d'art contemporain:geo:46.518697,6.643689
END:VEVENT
BEGIN:VTIMEZONE
TZID:Europe/Paris
X-LIC-LOCATION:Europe/Paris
BEGIN:DAYLIGHT
DTSTART:20250330T030000
TZOFFSETFROM:+0100
TZOFFSETTO:+0200
TZNAME:CEST
END:DAYLIGHT
END:VTIMEZONE
END:VCALENDAR