BEGIN:VCALENDAR
VERSION:2.0
PRODID:-//wp-events-plugin.com//7.2.3.1//EN
TZID:Europe/Paris
X-WR-TIMEZONE:Europe/Paris
BEGIN:VEVENT
UID:116991@l-agenda.ch
DTSTART;TZID=Europe/Paris:20260208T170000
DTEND;TZID=Europe/Paris:20260208T170000
DTSTAMP:20260202T120113Z
URL:https://www.l-agenda.ch/evenements/fleuve-profond-sombre-riviere/
SUMMARY:Fleuve profond\, sombre rivière
DESCRIPTION:Adaptation en musique du travail de traduction et de présentat
 ion des spirituals par Marguerite Yourcenar
ATTACH;FMTTYPE=image/jpeg:https://www.l-agenda.ch/wp-content/uploads/2025/
 09/Fleuve-Profond.jpg
CATEGORIES:Musique actuelle,Comédie musicale | Spectacle
 musical,Littérature | Conte | Lecture,Théâtre
LOCATION:Église de Daillens\, Rue du Bourquin 1\, Daillens\, VD\, 1306\, G
 ros-de-Vaud\, Suisse
GEO:46.620293;6.549267
X-APPLE-STRUCTURED-LOCATION;VALUE=URI;X-ADDRESS=Rue du Bourquin 1\, Daillen
 s\, VD\, 1306\, Gros-de-Vaud\, Suisse;X-APPLE-RADIUS=100;X-TITLE=Église d
 e Daillens:geo:46.620293,6.549267
END:VEVENT
BEGIN:VTIMEZONE
TZID:Europe/Paris
X-LIC-LOCATION:Europe/Paris
BEGIN:STANDARD
DTSTART:20251026T020000
TZOFFSETFROM:+0200
TZOFFSETTO:+0100
TZNAME:CET
END:STANDARD
END:VTIMEZONE
END:VCALENDAR