BEGIN:VCALENDAR
VERSION:2.0
PRODID:-//wp-events-plugin.com//7.2.3.1//EN
TZID:Europe/Paris
X-WR-TIMEZONE:Europe/Paris
BEGIN:VEVENT
UID:119443@l-agenda.ch
DTSTART;TZID=Europe/Paris:20260426T170000
DTEND;TZID=Europe/Paris:20260426T170000
DTSTAMP:20251211T094425Z
URL:https://www.l-agenda.ch/evenements/feu-au-lac-2026-04-26/
SUMMARY:Feu au lac !
DESCRIPTION:Marionnettes à tringles et musique en direct\, dès 12 ans
ATTACH;FMTTYPE=image/jpeg:https://www.l-agenda.ch/wp-content/uploads/2025/
 12/Feu-au-lac-.jpg
CATEGORIES:Comédie musicale | Spectacle musical,Documentaire | Documenté
 | Autofiction,Jeune public,Marionnettes,Théâtre
LOCATION:Théâtre des Marionnettes de Genève\, Rue Rodo 3\, Genève\, GE\
 , 1211\, Genève\, Suisse
GEO:46.193242;6.14079
X-APPLE-STRUCTURED-LOCATION;VALUE=URI;X-ADDRESS=Rue Rodo 3\, Genève\, GE\,
  1211\, Genève\, Suisse;X-APPLE-RADIUS=100;X-TITLE=Théâtre des Marionne
 ttes de Genève:geo:46.193242,6.14079
END:VEVENT
BEGIN:VTIMEZONE
TZID:Europe/Paris
X-LIC-LOCATION:Europe/Paris
BEGIN:DAYLIGHT
DTSTART:20260329T030000
TZOFFSETFROM:+0100
TZOFFSETTO:+0200
TZNAME:CEST
END:DAYLIGHT
END:VTIMEZONE
END:VCALENDAR