BEGIN:VCALENDAR
VERSION:2.0
PRODID:-//wp-events-plugin.com//7.2.3.1//EN
TZID:Europe/Paris
X-WR-TIMEZONE:Europe/Paris
BEGIN:VEVENT
UID:115494@l-agenda.ch
DTSTART;TZID=Europe/Paris;VALUE=DATE:20250621
DTEND;TZID=Europe/Paris;VALUE=DATE:20250623
DTSTAMP:20250520T155649Z
URL:https://www.l-agenda.ch/evenements/festival-vaudois-de-musique-legere/
SUMMARY:Festival vaudois de musique légère
DESCRIPTION:Concours d'ensembles musicaux\, soirée humour avec Blaise Bers
 inger le samedi
ATTACH;FMTTYPE=image/jpeg:https://www.l-agenda.ch/wp-content/uploads/2025/
 05/Musiques-legeres.jpg
CATEGORIES:Festival,Improvisation | Humour | Stand-up,Musique actuelle
LOCATION:Centre sportif du Chêne\, Chemin du Collège\, Aubonne\, VD\, 117
 0\, Morges\, Suisse
GEO:46.493977;6.395782
X-APPLE-STRUCTURED-LOCATION;VALUE=URI;X-ADDRESS=Chemin du Collège\, Aubonn
 e\, VD\, 1170\, Morges\, Suisse;X-APPLE-RADIUS=100;X-TITLE=Centre sportif 
 du Chêne:geo:46.493977,6.395782
END:VEVENT
BEGIN:VTIMEZONE
TZID:Europe/Paris
X-LIC-LOCATION:Europe/Paris
BEGIN:DAYLIGHT
DTSTART:20250330T030000
TZOFFSETFROM:+0100
TZOFFSETTO:+0200
TZNAME:CEST
END:DAYLIGHT
END:VTIMEZONE
END:VCALENDAR