BEGIN:VCALENDAR
VERSION:2.0
PRODID:-//wp-events-plugin.com//7.2.3.1//EN
TZID:Europe/Paris
X-WR-TIMEZONE:Europe/Paris
BEGIN:VEVENT
UID:86378@l-agenda.ch
DTSTART;TZID=Europe/Paris;VALUE=DATE:20221119
DTEND;TZID=Europe/Paris;VALUE=DATE:20221121
DTSTAMP:20221004T132117Z
URL:https://www.l-agenda.ch/event-recurring/festival-bd-arvelac/
SUMMARY:Festival BD Arvélac
DESCRIPTION:Rencontres d'auteurs
CATEGORIES:Festival
LOCATION:Salle communale d'Anières\, Route de la cote d'or 6\, Anières\, 
 GE\, 1247\, Suisse
GEO:46.274556;6.226904
X-APPLE-STRUCTURED-LOCATION;VALUE=URI;X-ADDRESS=Route de la cote d'or 6\, A
 nières\, GE\, 1247\, Suisse;X-APPLE-RADIUS=100;X-TITLE=Salle communale d'
 Anières:geo:46.274556,6.226904
END:VEVENT
BEGIN:VTIMEZONE
TZID:Europe/Paris
X-LIC-LOCATION:Europe/Paris
BEGIN:STANDARD
DTSTART:20221030T020000
TZOFFSETFROM:+0200
TZOFFSETTO:+0100
TZNAME:CET
END:STANDARD
END:VTIMEZONE
END:VCALENDAR