BEGIN:VCALENDAR
VERSION:2.0
PRODID:-//wp-events-plugin.com//7.2.3.1//EN
TZID:Europe/Paris
X-WR-TIMEZONE:Europe/Paris
BEGIN:VEVENT
UID:115374@l-agenda.ch
DTSTART;TZID=Europe/Paris;VALUE=DATE:20250613
DTEND;TZID=Europe/Paris;VALUE=DATE:20250615
DTSTAMP:20250609T074934Z
URL:https://www.l-agenda.ch/evenements/festimixx-2025/
SUMMARY:FESTIMIXX 2025
DESCRIPTION:Marie Jay\, Caroline Alves\, Afra Kane\, Maud Paquis\,...
ATTACH;FMTTYPE=image/jpeg:https://www.l-agenda.ch/wp-content/uploads/2025/
 05/Festimixx-Renens.jpg
CATEGORIES:Festival,Jazz | Swing | Blues,Musique actuelle,Pop | Folk |
 Chanson
LOCATION:Terrain de Verdeaux\,  Rue du Bugnon 1\, Renens\, VD\, 1020\, Oues
 t lausannois\, Suisse
GEO:46.539747;6.587901
X-APPLE-STRUCTURED-LOCATION;VALUE=URI;X-ADDRESS= Rue du Bugnon 1\, Renens\,
  VD\, 1020\, Ouest lausannois\, Suisse;X-APPLE-RADIUS=100;X-TITLE=Terrain 
 de Verdeaux:geo:46.539747,6.587901
END:VEVENT
BEGIN:VTIMEZONE
TZID:Europe/Paris
X-LIC-LOCATION:Europe/Paris
BEGIN:DAYLIGHT
DTSTART:20250330T030000
TZOFFSETFROM:+0100
TZOFFSETTO:+0200
TZNAME:CEST
END:DAYLIGHT
END:VTIMEZONE
END:VCALENDAR