BEGIN:VCALENDAR
VERSION:2.0
PRODID:-//wp-events-plugin.com//7.2.3.1//EN
TZID:Europe/Paris
X-WR-TIMEZONE:Europe/Paris
BEGIN:VEVENT
UID:114990@l-agenda.ch
DTSTART;TZID=Europe/Paris:20250416T160000
DTEND;TZID=Europe/Paris:20250417T160000
DTSTAMP:20250321T155943Z
URL:https://www.l-agenda.ch/event-recurring/fernando-daniel-v-h-sessions/
SUMMARY:Fernando Daniel - V.H.Sessions
DESCRIPTION:Pop portugaise
ATTACH;FMTTYPE=image/jpeg:https://www.l-agenda.ch/wp-content/uploads/2025/
 03/Fernando-Daniel.jpg
CATEGORIES:Musique actuelle,Pop | Folk | Chanson
LOCATION:Salle Métropole\, Rue de Genève 12\, Lausanne\, VD\, 1003\, Laus
 anne\, Suisse
GEO:46.522071;6.628154
X-APPLE-STRUCTURED-LOCATION;VALUE=URI;X-ADDRESS=Rue de Genève 12\, Lausann
 e\, VD\, 1003\, Lausanne\, Suisse;X-APPLE-RADIUS=100;X-TITLE=Salle Métrop
 ole:geo:46.522071,6.628154
END:VEVENT
BEGIN:VTIMEZONE
TZID:Europe/Paris
X-LIC-LOCATION:Europe/Paris
BEGIN:DAYLIGHT
DTSTART:20250330T030000
TZOFFSETFROM:+0100
TZOFFSETTO:+0200
TZNAME:CEST
END:DAYLIGHT
END:VTIMEZONE
END:VCALENDAR