BEGIN:VCALENDAR
VERSION:2.0
PRODID:-//wp-events-plugin.com//7.2.3.1//EN
TZID:Europe/Paris
X-WR-TIMEZONE:Europe/Paris
BEGIN:VEVENT
UID:116731@l-agenda.ch
DTSTART;TZID=Europe/Paris:20260310T200000
DTEND;TZID=Europe/Paris:20260310T200000
DTSTAMP:20260228T171144Z
URL:https://www.l-agenda.ch/evenements/fantasio-2-2026-02-24/
SUMMARY:Fantasio
DESCRIPTION:D'Alfred Musset. Avec de jeunes comédiennes et comédiens sort
 i-e-s des écoles de théâtre suisses
ATTACH;FMTTYPE=image/jpeg:https://www.l-agenda.ch/wp-content/uploads/2025/
 08/fantasio.jpg
CATEGORIES:Théâtre
LOCATION:Théâtre du Passage\, Passage Maximilien-de-Meuron 4\, Neuchâtel
 \, NE\, 2000\, Neuchâtel\, Suisse
X-APPLE-STRUCTURED-LOCATION;VALUE=URI;X-ADDRESS=Passage Maximilien-de-Meuro
 n 4\, Neuchâtel\, NE\, 2000\, Neuchâtel\, Suisse;X-APPLE-RADIUS=100;X-TI
 TLE=Théâtre du Passage:geo:0,0
END:VEVENT
BEGIN:VTIMEZONE
TZID:Europe/Paris
X-LIC-LOCATION:Europe/Paris
BEGIN:STANDARD
DTSTART:20251026T020000
TZOFFSETFROM:+0200
TZOFFSETTO:+0100
TZNAME:CET
END:STANDARD
END:VTIMEZONE
END:VCALENDAR