BEGIN:VCALENDAR
VERSION:2.0
PRODID:-//wp-events-plugin.com//7.2.3.1//EN
TZID:Europe/Paris
X-WR-TIMEZONE:Europe/Paris
BEGIN:VEVENT
UID:105170@l-agenda.ch
DTSTART;TZID=Europe/Paris;VALUE=DATE:20240426
DTEND;TZID=Europe/Paris;VALUE=DATE:20250303
DTSTAMP:20240128T205525Z
URL:https://www.l-agenda.ch/evenements/faire-don-une-affaire-de-coeur-ou-d
 e-raison/
SUMMARY:Faire don\, une affaire de cœur ou de raison?
DESCRIPTION:L'histoire des donateurs du musée au travers des objets
ATTACH;FMTTYPE=image/jpeg:https://www.l-agenda.ch/wp-content/uploads/2024/
 01/2024_don_AR_2008_043-loeffel_2008.jpg.webp
CATEGORIES:Exposition temporaire
LOCATION:Musée Ariana\, Avenue de la Paix 10\, Genève\, GE\, 1202\, Genè
 ve\, Suisse
GEO:46.22542;6.138862
X-APPLE-STRUCTURED-LOCATION;VALUE=URI;X-ADDRESS=Avenue de la Paix 10\, Gen
 ève\, GE\, 1202\, Genève\, Suisse;X-APPLE-RADIUS=100;X-TITLE=Musée Aria
 na:geo:46.22542,6.138862
END:VEVENT
BEGIN:VTIMEZONE
TZID:Europe/Paris
X-LIC-LOCATION:Europe/Paris
BEGIN:DAYLIGHT
DTSTART:20240331T030000
TZOFFSETFROM:+0100
TZOFFSETTO:+0200
TZNAME:CEST
END:DAYLIGHT
BEGIN:STANDARD
DTSTART:20241027T020000
TZOFFSETFROM:+0200
TZOFFSETTO:+0100
TZNAME:CET
END:STANDARD
END:VTIMEZONE
END:VCALENDAR