BEGIN:VCALENDAR
VERSION:2.0
PRODID:-//wp-events-plugin.com//7.2.3.1//EN
TZID:Europe/Paris
X-WR-TIMEZONE:Europe/Paris
BEGIN:VEVENT
UID:118355@l-agenda.ch
DTSTART;TZID=Europe/Paris:20260425T190000
DTEND;TZID=Europe/Paris:20260425T190000
DTSTAMP:20251024T091524Z
URL:https://www.l-agenda.ch/evenements/eugenie-rebetez-comeback-7/
SUMMARY:Eugénie Rebetez - Comeback
DESCRIPTION:Seule en scène humoristique\, danse et chant
ATTACH;FMTTYPE=image/jpeg:https://www.l-agenda.ch/wp-content/uploads/2024/
 11/Comeback.jpg
CATEGORIES:Comédie musicale | Spectacle musical,Danse contemporaine |
 Néo-classique,Improvisation | Humour | Stand-up,Théâtre
LOCATION:Théâtre LE POCHE\, Rue du Cheval-Blanc 7\, Genève\, GE\, 1204\,
  Genève\, Suisse
GEO:46.201691;6.145493
X-APPLE-STRUCTURED-LOCATION;VALUE=URI;X-ADDRESS=Rue du Cheval-Blanc 7\, Gen
 ève\, GE\, 1204\, Genève\, Suisse;X-APPLE-RADIUS=100;X-TITLE=Théâtre L
 E POCHE:geo:46.201691,6.145493
END:VEVENT
BEGIN:VTIMEZONE
TZID:Europe/Paris
X-LIC-LOCATION:Europe/Paris
BEGIN:DAYLIGHT
DTSTART:20260329T030000
TZOFFSETFROM:+0100
TZOFFSETTO:+0200
TZNAME:CEST
END:DAYLIGHT
END:VTIMEZONE
END:VCALENDAR