BEGIN:VCALENDAR
VERSION:2.0
PRODID:-//wp-events-plugin.com//7.2.3.1//EN
TZID:Europe/Paris
X-WR-TIMEZONE:Europe/Paris
BEGIN:VEVENT
UID:114601@l-agenda.ch
DTSTART;TZID=Europe/Paris:20250511T170000
DTEND;TZID=Europe/Paris:20250511T170000
DTSTAMP:20250303T125139Z
URL:https://www.l-agenda.ch/evenements/eugenie-rebetez-comeback-5/
SUMMARY:Eugénie Rebetez - Comeback
DESCRIPTION:Seule en scène humoristique\, danse et chant
ATTACH;FMTTYPE=image/jpeg:https://www.l-agenda.ch/wp-content/uploads/2025/
 02/Eugenie-Rebetez.webp
CATEGORIES:Comédie musicale | Spectacle musical,Danse contemporaine |
 Néo-classique,Improvisation | Humour | Stand-up,Théâtre
LOCATION:L'Échandole\, Rue du Casino 9\, Yverdon-les-Bains\, VD\, 1400\, J
 ura-Nord Vaudois\, Suisse
GEO:46.779825;6.642233
X-APPLE-STRUCTURED-LOCATION;VALUE=URI;X-ADDRESS=Rue du Casino 9\, Yverdon-l
 es-Bains\, VD\, 1400\, Jura-Nord Vaudois\, Suisse;X-APPLE-RADIUS=100;X-TIT
 LE=L'Échandole:geo:46.779825,6.642233
END:VEVENT
BEGIN:VTIMEZONE
TZID:Europe/Paris
X-LIC-LOCATION:Europe/Paris
BEGIN:DAYLIGHT
DTSTART:20250330T030000
TZOFFSETFROM:+0100
TZOFFSETTO:+0200
TZNAME:CEST
END:DAYLIGHT
END:VTIMEZONE
END:VCALENDAR