BEGIN:VCALENDAR
VERSION:2.0
PRODID:-//wp-events-plugin.com//7.2.3.1//EN
TZID:Europe/Paris
X-WR-TIMEZONE:Europe/Paris
BEGIN:VEVENT
UID:117419@l-agenda.ch
DTSTART;TZID=Europe/Paris:20260329T110000
DTEND;TZID=Europe/Paris:20260329T110000
DTSTAMP:20250909T122218Z
URL:https://www.l-agenda.ch/evenements/et-puis-2026-03-28-2026-03-29/
SUMMARY:Et puis
DESCRIPTION:Fresque visuelle écologique en marionnettes\, théâtre de pap
 ier et musique. Dès 4 ans
ATTACH;FMTTYPE=image/jpeg:https://www.l-agenda.ch/wp-content/uploads/2025/
 09/ET-PUIS.webp
CATEGORIES:Comédie musicale | Spectacle musical,Jeune public,Littérature
 | Conte | Lecture,Théâtre
LOCATION:Théâtre Le Reflet – Vevey\, Rue du Théâtre 4\, Vevey\, VD\, 
 1800\, Riviera\, Suisse
GEO:46.460499;6.843113
X-APPLE-STRUCTURED-LOCATION;VALUE=URI;X-ADDRESS=Rue du Théâtre 4\, Vevey\
 , VD\, 1800\, Riviera\, Suisse;X-APPLE-RADIUS=100;X-TITLE=Théâtre Le Ref
 let – Vevey:geo:46.460499,6.843113
END:VEVENT
BEGIN:VTIMEZONE
TZID:Europe/Paris
X-LIC-LOCATION:Europe/Paris
BEGIN:DAYLIGHT
DTSTART:20260329T030000
TZOFFSETFROM:+0100
TZOFFSETTO:+0200
TZNAME:CEST
END:DAYLIGHT
END:VTIMEZONE
END:VCALENDAR