BEGIN:VCALENDAR
VERSION:2.0
PRODID:-//wp-events-plugin.com//7.2.3.1//EN
TZID:Europe/Paris
X-WR-TIMEZONE:Europe/Paris
BEGIN:VEVENT
UID:106086@l-agenda.ch
DTSTART;TZID=Europe/Paris:20240620T170000
DTEND;TZID=Europe/Paris:20240620T170000
DTSTAMP:20240322T154003Z
URL:https://www.l-agenda.ch/evenements/eroc-core/
SUMMARY:EROC-CORE
DESCRIPTION:Recherche orchestration et création HEM
ATTACH;FMTTYPE=image/jpeg:https://www.l-agenda.ch/wp-content/uploads/2024/
 03/evenements_site9.png.webp
CATEGORIES:Classique,Musique contemporaine
LOCATION:Uni-Dufour\, Rue du Général-Dufour 24\, Genève\, GE\, 1204\, Su
 isse
GEO:46.199647;6.142225
X-APPLE-STRUCTURED-LOCATION;VALUE=URI;X-ADDRESS=Rue du Général-Dufour 24\
 , Genève\, GE\, 1204\, Suisse;X-APPLE-RADIUS=100;X-TITLE=Uni-Dufour:geo:4
 6.199647,6.142225
END:VEVENT
BEGIN:VTIMEZONE
TZID:Europe/Paris
X-LIC-LOCATION:Europe/Paris
BEGIN:DAYLIGHT
DTSTART:20240331T030000
TZOFFSETFROM:+0100
TZOFFSETTO:+0200
TZNAME:CEST
END:DAYLIGHT
END:VTIMEZONE
END:VCALENDAR