BEGIN:VCALENDAR
VERSION:2.0
PRODID:-//wp-events-plugin.com//7.2.3.1//EN
TZID:Europe/Paris
X-WR-TIMEZONE:Europe/Paris
BEGIN:VEVENT
UID:106141@l-agenda.ch
DTSTART;TZID=Europe/Paris:20240517T210000
DTEND;TZID=Europe/Paris:20240517T210000
DTSTAMP:20240322T153906Z
URL:https://www.l-agenda.ch/evenements/elies-si-on-mavait-dit-2/
SUMMARY:Elies - Si on m'avait dit
DESCRIPTION:Seul en scène humoristique
ATTACH;FMTTYPE=image/jpeg:https://www.l-agenda.ch/wp-content/uploads/2024/
 03/74672ec8-5752-44e3-aa42-0d0e1018db43.jpg
CATEGORIES:Improvisation | Humour | Stand-up,Théâtre
LOCATION:Caustic Comedy Club\, Avenue Cardinal Mermillod 6\, Carouge\, GE\,
  1227\, Genève\, Suisse
GEO:46.186899;6.141979
X-APPLE-STRUCTURED-LOCATION;VALUE=URI;X-ADDRESS=Avenue Cardinal Mermillod 6
 \, Carouge\, GE\, 1227\, Genève\, Suisse;X-APPLE-RADIUS=100;X-TITLE=Caust
 ic Comedy Club:geo:46.186899,6.141979
END:VEVENT
BEGIN:VTIMEZONE
TZID:Europe/Paris
X-LIC-LOCATION:Europe/Paris
BEGIN:DAYLIGHT
DTSTART:20240331T030000
TZOFFSETFROM:+0100
TZOFFSETTO:+0200
TZNAME:CEST
END:DAYLIGHT
END:VTIMEZONE
END:VCALENDAR