BEGIN:VCALENDAR
VERSION:2.0
PRODID:-//wp-events-plugin.com//7.2.3.1//EN
TZID:Europe/Paris
X-WR-TIMEZONE:Europe/Paris
BEGIN:VEVENT
UID:108129@l-agenda.ch
DTSTART;TZID=Europe/Paris:20241123T133000
DTEND;TZID=Europe/Paris:20241124T173000
DTSTAMP:20240731T103937Z
URL:https://www.l-agenda.ch/evenements/ecrire-avec-le-hasard-atelier-decri
 ture-avec-noelle-revaz/
SUMMARY:Écrire avec le hasard - Atelier d'écriture avec Noëlle Revaz
DESCRIPTION:Contraintes\, textes\, symboles\, supports visuels et de divina
 tion aident à perdre le contrôle et à faire naître des mots\, avec l
 ’aide bienveillante de Noëlle Revaz. \n\nOuvert à toutes et tous dès 
 16 ans.
ATTACH;FMTTYPE=image/jpeg:https://www.l-agenda.ch/wp-content/uploads/2024/
 07/Noelle-Revaz.jpg
CATEGORIES:Littérature | Conte | Lecture
LOCATION:Maison Rousseau et Littérature\, Grand-Rue 40\, Genève\, GE\, 12
 04\, Genève\, Suisse
GEO:46.20135;6.146578
X-APPLE-STRUCTURED-LOCATION;VALUE=URI;X-ADDRESS=Grand-Rue 40\, Genève\, GE
 \, 1204\, Genève\, Suisse;X-APPLE-RADIUS=100;X-TITLE=Maison Rousseau et L
 ittérature:geo:46.20135,6.146578
END:VEVENT
BEGIN:VTIMEZONE
TZID:Europe/Paris
X-LIC-LOCATION:Europe/Paris
BEGIN:STANDARD
DTSTART:20241027T020000
TZOFFSETFROM:+0200
TZOFFSETTO:+0100
TZNAME:CET
END:STANDARD
END:VTIMEZONE
END:VCALENDAR