BEGIN:VCALENDAR
VERSION:2.0
PRODID:-//wp-events-plugin.com//7.2.3.1//EN
TZID:Europe/Paris
X-WR-TIMEZONE:Europe/Paris
BEGIN:VEVENT
UID:4054@l-agenda.ch
DTSTART;TZID=Europe/Amsterdam:20170114T110000
DTEND;TZID=Europe/Amsterdam:20170115T110000
DTSTAMP:20161128T073226Z
URL:https://www.l-agenda.ch/event-recurring/eclipse-2/
SUMMARY:Éclipse
DESCRIPTION:Ecrit &amp\; mis en scène par A. Friant.
CATEGORIES:Jeune public
LOCATION:Théâtre des Marionnettes de Genève\, Rue Rodo 3\, Genève\, GE\
 , 1211\, Genève\, Suisse
GEO:46.193242;6.14079
X-APPLE-STRUCTURED-LOCATION;VALUE=URI;X-ADDRESS=Rue Rodo 3\, Genève\, GE\,
  1211\, Genève\, Suisse;X-APPLE-RADIUS=100;X-TITLE=Théâtre des Marionne
 ttes de Genève:geo:46.193242,6.14079
END:VEVENT
BEGIN:VTIMEZONE
TZID:Europe/Amsterdam
X-LIC-LOCATION:Europe/Amsterdam
BEGIN:STANDARD
DTSTART:20161030T020000
TZOFFSETFROM:+0200
TZOFFSETTO:+0100
TZNAME:CET
END:STANDARD
END:VTIMEZONE
END:VCALENDAR