BEGIN:VCALENDAR
VERSION:2.0
PRODID:-//wp-events-plugin.com//7.2.3.1//EN
TZID:Europe/Paris
X-WR-TIMEZONE:Europe/Paris
BEGIN:VEVENT
UID:109872@l-agenda.ch
DTSTART;TZID=Europe/Paris:20251209T183000
DTEND;TZID=Europe/Paris:20251209T183000
DTSTAMP:20251121T144924Z
URL:https://www.l-agenda.ch/evenements/eclairage-la-traviata/
SUMMARY:Éclairage - Un Américain à Paris
DESCRIPTION:Conférence sur l’œuvre à venir au Grand Théâtre de Genè
 ve
ATTACH;FMTTYPE=image/jpeg:https://www.l-agenda.ch/wp-content/uploads/2024/
 09/Eclairages.jpg
CATEGORIES:Conférence | Rencontre,Opéra | Lyrique | Voix
LOCATION:Théâtre de l'Espérance\, Rue de la Chapelle 8\, Genève\, GE\, 
 1207 \, Genève\, Suisse
GEO:46.201357;6.157562
X-APPLE-STRUCTURED-LOCATION;VALUE=URI;X-ADDRESS=Rue de la Chapelle 8\, Gen
 ève\, GE\, 1207 \, Genève\, Suisse;X-APPLE-RADIUS=100;X-TITLE=Théâtre 
 de l'Espérance:geo:46.201357,6.157562
END:VEVENT
BEGIN:VTIMEZONE
TZID:Europe/Paris
X-LIC-LOCATION:Europe/Paris
BEGIN:STANDARD
DTSTART:20251026T020000
TZOFFSETFROM:+0200
TZOFFSETTO:+0100
TZNAME:CET
END:STANDARD
END:VTIMEZONE
END:VCALENDAR