BEGIN:VCALENDAR
VERSION:2.0
PRODID:-//wp-events-plugin.com//7.2.3.1//EN
TZID:Europe/Paris
X-WR-TIMEZONE:Europe/Paris
BEGIN:VEVENT
UID:117064@l-agenda.ch
DTSTART;TZID=Europe/Paris:20260214T100000
DTEND;TZID=Europe/Paris:20260214T100000
DTSTAMP:20250902T163706Z
URL:https://www.l-agenda.ch/evenements/doudou-concerts-2/
SUMMARY:Doudou-Concerts
DESCRIPTION:Concert pour les enfants de 6 mois é 3 ans\, accompagné-e-s d
 ’un-e adulte et de leur compagnon en peluche préféré
ATTACH;FMTTYPE=image/jpeg:https://www.l-agenda.ch/wp-content/uploads/2025/
 09/Doudou-Concert.jpg
CATEGORIES:Classique,Jeune public,Orchestre | Ensemble | Instrument |
 Chambre
LOCATION:Point Favre\, Avenue F.-A. Grison 6\, Chêne-Bourg\, GE\, 1225\, G
 enève\, Suisse
GEO:46.194863;6.194406
X-APPLE-STRUCTURED-LOCATION;VALUE=URI;X-ADDRESS=Avenue F.-A. Grison 6\, Ch
 êne-Bourg\, GE\, 1225\, Genève\, Suisse;X-APPLE-RADIUS=100;X-TITLE=Point
  Favre:geo:46.194863,6.194406
END:VEVENT
BEGIN:VTIMEZONE
TZID:Europe/Paris
X-LIC-LOCATION:Europe/Paris
BEGIN:STANDARD
DTSTART:20251026T020000
TZOFFSETFROM:+0200
TZOFFSETTO:+0100
TZNAME:CET
END:STANDARD
END:VTIMEZONE
END:VCALENDAR