BEGIN:VCALENDAR
VERSION:2.0
PRODID:-//wp-events-plugin.com//7.2.3.1//EN
TZID:Europe/Paris
X-WR-TIMEZONE:Europe/Paris
BEGIN:VEVENT
UID:106894@l-agenda.ch
DTSTART;TZID=Europe/Paris:20240424T203000
DTEND;TZID=Europe/Paris:20240424T203000
DTSTAMP:20240416T121410Z
URL:https://www.l-agenda.ch/evenements/djangologie/
SUMMARY:Djangologie
DESCRIPTION:Jazz manouche
ATTACH;FMTTYPE=image/jpeg:https://www.l-agenda.ch/wp-content/uploads/2024/
 04/Djangologie.jpg
CATEGORIES:Jazz | Swing | Blues,Musique actuelle
LOCATION:EJMA\, Rue des Côtes-de-Montbenon 26\, Lausanne\, VD\, 1002\, Sui
 sse
GEO:46.521488;6.626035
X-APPLE-STRUCTURED-LOCATION;VALUE=URI;X-ADDRESS=Rue des Côtes-de-Montbenon
  26\, Lausanne\, VD\, 1002\, Suisse;X-APPLE-RADIUS=100;X-TITLE=EJMA:geo:46
 .521488,6.626035
END:VEVENT
BEGIN:VTIMEZONE
TZID:Europe/Paris
X-LIC-LOCATION:Europe/Paris
BEGIN:DAYLIGHT
DTSTART:20240331T030000
TZOFFSETFROM:+0100
TZOFFSETTO:+0200
TZNAME:CEST
END:DAYLIGHT
END:VTIMEZONE
END:VCALENDAR