BEGIN:VCALENDAR
VERSION:2.0
PRODID:-//wp-events-plugin.com//7.2.3.1//EN
TZID:Europe/Paris
X-WR-TIMEZONE:Europe/Paris
BEGIN:VEVENT
UID:106834@l-agenda.ch
DTSTART;TZID=Europe/Paris:20240615T203000
DTEND;TZID=Europe/Paris:20240615T203000
DTSTAMP:20240416T121547Z
URL:https://www.l-agenda.ch/evenements/djal-en-pleine-conscience/
SUMMARY:D'jal - En pleine conscience
DESCRIPTION:Seul en scène humoristique
ATTACH;FMTTYPE=image/jpeg:https://www.l-agenda.ch/wp-content/uploads/2024/
 03/1681.jpg
CATEGORIES:Improvisation | Humour | Stand-up,Théâtre
LOCATION:Théâtre du Léman\, Quai du Mont-Blanc 18\, Genève\, GE\, 1201\
 , Genève\, Suisse
GEO:46.210479;6.151682
X-APPLE-STRUCTURED-LOCATION;VALUE=URI;X-ADDRESS=Quai du Mont-Blanc 18\, Gen
 ève\, GE\, 1201\, Genève\, Suisse;X-APPLE-RADIUS=100;X-TITLE=Théâtre d
 u Léman:geo:46.210479,6.151682
END:VEVENT
BEGIN:VTIMEZONE
TZID:Europe/Paris
X-LIC-LOCATION:Europe/Paris
BEGIN:DAYLIGHT
DTSTART:20240331T030000
TZOFFSETFROM:+0100
TZOFFSETTO:+0200
TZNAME:CEST
END:DAYLIGHT
END:VTIMEZONE
END:VCALENDAR