BEGIN:VCALENDAR
VERSION:2.0
PRODID:-//wp-events-plugin.com//7.2.3.1//EN
TZID:Europe/Paris
X-WR-TIMEZONE:Europe/Paris
BEGIN:VEVENT
UID:115366@l-agenda.ch
DTSTART;TZID=Europe/Paris:20260131T140000
DTEND;TZID=Europe/Paris:20260131T140000
DTSTAMP:20250513T124918Z
URL:https://www.l-agenda.ch/evenements/disney-sur-glace-2/
SUMMARY:Disney sur Glace
DESCRIPTION:Spectacle de danse\, patinage et musique sur glace\, autour de 
 l'univers de Diney
ATTACH;FMTTYPE=image/jpeg:https://www.l-agenda.ch/wp-content/uploads/2025/
 05/Disney-sur-Glace.jpg
CATEGORIES:Danse,Jeune public
LOCATION:Vaudoise Aréna\, Avenue du Chablais 16-18\, Prilly\, VD\, 1008\, 
 Ouest lausannois\, Suisse
GEO:46.52571;6.602752
X-APPLE-STRUCTURED-LOCATION;VALUE=URI;X-ADDRESS=Avenue du Chablais 16-18\, 
 Prilly\, VD\, 1008\, Ouest lausannois\, Suisse;X-APPLE-RADIUS=100;X-TITLE=
 Vaudoise Aréna:geo:46.52571,6.602752
END:VEVENT
BEGIN:VTIMEZONE
TZID:Europe/Paris
X-LIC-LOCATION:Europe/Paris
BEGIN:STANDARD
DTSTART:20251026T020000
TZOFFSETFROM:+0200
TZOFFSETTO:+0100
TZNAME:CET
END:STANDARD
END:VTIMEZONE
END:VCALENDAR