BEGIN:VCALENDAR
VERSION:2.0
PRODID:-//wp-events-plugin.com//7.2.3.1//EN
TZID:Europe/Paris
X-WR-TIMEZONE:Europe/Paris
BEGIN:VEVENT
UID:115369@l-agenda.ch
DTSTART;TZID=Europe/Paris;VALUE=DATE:20250508
DTEND;TZID=Europe/Paris;VALUE=DATE:20250519
DTSTAMP:20250516T095806Z
URL:https://www.l-agenda.ch/evenements/diptyque/
SUMMARY:Diptyque
DESCRIPTION:Exposition photo
ATTACH;FMTTYPE=image/jpeg:https://www.l-agenda.ch/wp-content/uploads/2025/
 05/Diptyque.jpeg
CATEGORIES:Exposition temporaire
LOCATION:Ferme Sarasin\, Chemin Edouard-Sarasin 47\, Le Grand-Saconnex\, GE
 \, 1218\, Genève\, Suisse
GEO:46.232829;6.122012
X-APPLE-STRUCTURED-LOCATION;VALUE=URI;X-ADDRESS=Chemin Edouard-Sarasin 47\,
  Le Grand-Saconnex\, GE\, 1218\, Genève\, Suisse;X-APPLE-RADIUS=100;X-TIT
 LE=Ferme Sarasin:geo:46.232829,6.122012
END:VEVENT
BEGIN:VTIMEZONE
TZID:Europe/Paris
X-LIC-LOCATION:Europe/Paris
BEGIN:DAYLIGHT
DTSTART:20250330T030000
TZOFFSETFROM:+0100
TZOFFSETTO:+0200
TZNAME:CEST
END:DAYLIGHT
END:VTIMEZONE
END:VCALENDAR