BEGIN:VCALENDAR
VERSION:2.0
PRODID:-//wp-events-plugin.com//7.2.3.1//EN
TZID:Europe/Paris
X-WR-TIMEZONE:Europe/Paris
BEGIN:VEVENT
UID:120506@l-agenda.ch
DTSTART;TZID=Europe/Paris:20260816T170000
DTEND;TZID=Europe/Paris:20260816T170000
DTSTAMP:20260324T115531Z
URL:https://www.l-agenda.ch/evenements/deep-green-trio-benjamin-righetti/
SUMMARY:Deep Green Trio & Benjamin Righetti
DESCRIPTION:Musique lumineuse pour temps troublés – Jazz et musique sacr
 ée
ATTACH;FMTTYPE=image/jpeg:https://www.l-agenda.ch/wp-content/uploads/2024/
 03/Les-Concerts-de-Romainmotiers.avif
CATEGORIES:Classique,Jazz | Swing | Blues,Orchestre | Ensemble |
 Instrument | Chambre
LOCATION:Abbatiale de Romainmôtier\, Place du Bourg 5\, Romainmôtier\, VD
 \, 1323\, Jura-Nord Vaudois\, Suisse
GEO:46.693511;6.460309
X-APPLE-STRUCTURED-LOCATION;VALUE=URI;X-ADDRESS=Place du Bourg 5\, Romainm
 ôtier\, VD\, 1323\, Jura-Nord Vaudois\, Suisse;X-APPLE-RADIUS=100;X-TITLE
 =Abbatiale de Romainmôtier:geo:46.693511,6.460309
END:VEVENT
BEGIN:VTIMEZONE
TZID:Europe/Paris
X-LIC-LOCATION:Europe/Paris
BEGIN:DAYLIGHT
DTSTART:20260329T030000
TZOFFSETFROM:+0100
TZOFFSETTO:+0200
TZNAME:CEST
END:DAYLIGHT
END:VTIMEZONE
END:VCALENDAR