BEGIN:VCALENDAR
VERSION:2.0
PRODID:-//wp-events-plugin.com//7.2.3.1//EN
TZID:Europe/Paris
X-WR-TIMEZONE:Europe/Paris
BEGIN:VEVENT
UID:119324@l-agenda.ch
DTSTART;TZID=Europe/Paris:20260319T200000
DTEND;TZID=Europe/Paris:20260319T200000
DTSTAMP:20251204T134740Z
URL:https://www.l-agenda.ch/evenements/de-10-a-13/
SUMMARY:De 10 à 13
DESCRIPTION:Le journal intime de Camille Dordoigne\, une ado dans les anné
 es 2000\, joué sur scène au mot près
ATTACH;FMTTYPE=image/jpeg:https://www.l-agenda.ch/wp-content/uploads/2025/
 12/De-10-a-13.jpg
CATEGORIES:Comédie,Documentaire | Documenté | Autofiction,Théâtre
LOCATION:Casino Théâtre de Rolle\, Rue du Port 15\, Rolle\, VD\, 1180 \, 
 Nyon\, Suisse
GEO:46.455212;6.336826
X-APPLE-STRUCTURED-LOCATION;VALUE=URI;X-ADDRESS=Rue du Port 15\, Rolle\, VD
 \, 1180 \, Nyon\, Suisse;X-APPLE-RADIUS=100;X-TITLE=Casino Théâtre de Ro
 lle:geo:46.455212,6.336826
END:VEVENT
BEGIN:VTIMEZONE
TZID:Europe/Paris
X-LIC-LOCATION:Europe/Paris
BEGIN:STANDARD
DTSTART:20251026T020000
TZOFFSETFROM:+0200
TZOFFSETTO:+0100
TZNAME:CET
END:STANDARD
END:VTIMEZONE
END:VCALENDAR