BEGIN:VCALENDAR
VERSION:2.0
PRODID:-//wp-events-plugin.com//7.2.3.1//EN
TZID:Europe/Paris
X-WR-TIMEZONE:Europe/Paris
BEGIN:VEVENT
UID:119325@l-agenda.ch
DTSTART;TZID=Europe/Paris:20260317T190000
DTEND;TZID=Europe/Paris:20260317T190000
DTSTAMP:20251204T134946Z
URL:https://www.l-agenda.ch/evenements/de-10-a-13-2/
SUMMARY:De 10 à 13
DESCRIPTION:Le journal intime de Camille Dordoigne\, une ado dans les anné
 es 2000\, joué sur scène au mot près
ATTACH;FMTTYPE=image/jpeg:https://www.l-agenda.ch/wp-content/uploads/2025/
 12/De-10-a-13.jpg
CATEGORIES:Comédie,Documentaire | Documenté | Autofiction,Théâtre
LOCATION:Théâtre Boulimie\, Place Arlaud 1\, Lausanne\, VD\, 1003 \, Laus
 anne\, Suisse
GEO:46.522585;6.632014
X-APPLE-STRUCTURED-LOCATION;VALUE=URI;X-ADDRESS=Place Arlaud 1\, Lausanne\,
  VD\, 1003 \, Lausanne\, Suisse;X-APPLE-RADIUS=100;X-TITLE=Théâtre Bouli
 mie:geo:46.522585,6.632014
END:VEVENT
BEGIN:VTIMEZONE
TZID:Europe/Paris
X-LIC-LOCATION:Europe/Paris
BEGIN:STANDARD
DTSTART:20251026T020000
TZOFFSETFROM:+0200
TZOFFSETTO:+0100
TZNAME:CET
END:STANDARD
END:VTIMEZONE
END:VCALENDAR