BEGIN:VCALENDAR
VERSION:2.0
PRODID:-//wp-events-plugin.com//7.2.3.1//EN
TZID:Europe/Paris
X-WR-TIMEZONE:Europe/Paris
BEGIN:VEVENT
UID:103709@l-agenda.ch
DTSTART;TZID=Europe/Paris:20240309T203000
DTEND;TZID=Europe/Paris:20240309T203000
DTSTAMP:20240110T163104Z
URL:https://www.l-agenda.ch/evenements/david-jarre-mosaic/
SUMMARY:David Jarre - Mosaic
DESCRIPTION:Magie\, illusion et mentalisme
ATTACH;FMTTYPE=image/jpeg:https://www.l-agenda.ch/wp-content/uploads/2024/
 01/24_03_David_Jarre_flyer.jpg
CATEGORIES:Cirque
LOCATION:Salle J.-J. Gautier\, Route du Vallon 1\, Chêne-Bougeries\, GE\, 
 1224\, Genève\, Suisse
GEO:46.196136;6.18742
X-APPLE-STRUCTURED-LOCATION;VALUE=URI;X-ADDRESS=Route du Vallon 1\, Chêne-
 Bougeries\, GE\, 1224\, Genève\, Suisse;X-APPLE-RADIUS=100;X-TITLE=Salle 
 J.-J. Gautier:geo:46.196136,6.18742
END:VEVENT
BEGIN:VTIMEZONE
TZID:Europe/Paris
X-LIC-LOCATION:Europe/Paris
BEGIN:STANDARD
DTSTART:20231029T020000
TZOFFSETFROM:+0200
TZOFFSETTO:+0100
TZNAME:CET
END:STANDARD
END:VTIMEZONE
END:VCALENDAR