BEGIN:VCALENDAR
VERSION:2.0
PRODID:-//wp-events-plugin.com//7.2.3.1//EN
TZID:Europe/Paris
X-WR-TIMEZONE:Europe/Paris
BEGIN:VEVENT
UID:119832@l-agenda.ch
DTSTART;TZID=Europe/Paris:20260117T183000
DTEND;TZID=Europe/Paris:20260117T183000
DTSTAMP:20260116T140033Z
URL:https://www.l-agenda.ch/evenements/dans-la-cour-de-mikis/
SUMMARY:Dans la cour de Mikis
DESCRIPTION:Spectacle musico-théâtral dédié au centraire de la naissanc
 e du compositeur grec Mikis Theodorakis
ATTACH;FMTTYPE=image/jpeg:https://www.l-agenda.ch/wp-content/uploads/2026/
 01/Dans-la-cour-de-Mikis.jpg
CATEGORIES:Musique actuelle,Comédie musicale | Spectacle
 musical,Théâtre
LOCATION:Théâtre de Marens\, Route du Stand 5\, Nyon\, VD\, 1260 \, Nyon\
 , Suisse
GEO:46.381938;6.225877
X-APPLE-STRUCTURED-LOCATION;VALUE=URI;X-ADDRESS=Route du Stand 5\, Nyon\, V
 D\, 1260 \, Nyon\, Suisse;X-APPLE-RADIUS=100;X-TITLE=Théâtre de Marens:g
 eo:46.381938,6.225877
END:VEVENT
BEGIN:VTIMEZONE
TZID:Europe/Paris
X-LIC-LOCATION:Europe/Paris
BEGIN:STANDARD
DTSTART:20251026T020000
TZOFFSETFROM:+0200
TZOFFSETTO:+0100
TZNAME:CET
END:STANDARD
END:VTIMEZONE
END:VCALENDAR