BEGIN:VCALENDAR
VERSION:2.0
PRODID:-//wp-events-plugin.com//7.2.3.1//EN
TZID:Europe/Paris
X-WR-TIMEZONE:Europe/Paris
BEGIN:VEVENT
UID:116920@l-agenda.ch
DTSTART;TZID=Europe/Paris:20260121T190000
DTEND;TZID=Europe/Paris:20260121T190000
DTSTAMP:20250826T144838Z
URL:https://www.l-agenda.ch/evenements/daniel-dos-santos-mauvais-psy-3/
SUMMARY:Daniel Dos Santos - Mauvais psy
DESCRIPTION:Stand up
ATTACH;FMTTYPE=image/jpeg:https://www.l-agenda.ch/wp-content/uploads/2025/
 07/Dos.avif
CATEGORIES:Improvisation | Humour | Stand-up,Théâtre
LOCATION:Liquors Club\, Rue Enning 1\, Lausanne\, VD\, 1003\, Lausanne\, Su
 isse
X-APPLE-STRUCTURED-LOCATION;VALUE=URI;X-ADDRESS=Rue Enning 1\, Lausanne\, V
 D\, 1003\, Lausanne\, Suisse;X-APPLE-RADIUS=100;X-TITLE=Liquors Club:geo:0
 ,0
END:VEVENT
BEGIN:VTIMEZONE
TZID:Europe/Paris
X-LIC-LOCATION:Europe/Paris
BEGIN:STANDARD
DTSTART:20251026T020000
TZOFFSETFROM:+0200
TZOFFSETTO:+0100
TZNAME:CET
END:STANDARD
END:VTIMEZONE
END:VCALENDAR