BEGIN:VCALENDAR
VERSION:2.0
PRODID:-//wp-events-plugin.com//7.2.3.1//EN
TZID:Europe/Paris
X-WR-TIMEZONE:Europe/Paris
BEGIN:VEVENT
UID:119985@l-agenda.ch
DTSTART;TZID=Europe/Paris:20260228T200000
DTEND;TZID=Europe/Paris:20260228T200000
DTSTAMP:20260223T103412Z
URL:https://www.l-agenda.ch/evenements/dancing-queens/
SUMMARY:Dancing Queens
DESCRIPTION:Comédie musicale\, avec les titres du groupe ABBA en français
ATTACH;FMTTYPE=image/jpeg:https://www.l-agenda.ch/wp-content/uploads/2026/
 01/Dancing-Queens.jpg
CATEGORIES:Théâtre,Comédie musicale | Spectacle musical,Pop | Folk |
 Chanson
LOCATION:Salle de Chisaz\, Route de la Carrière 5\, Crissier\, VD\, 1023\,
  Ouest lausannois\, Suisse
GEO:46.549609;6.576714
X-APPLE-STRUCTURED-LOCATION;VALUE=URI;X-ADDRESS=Route de la Carrière 5\, C
 rissier\, VD\, 1023\, Ouest lausannois\, Suisse;X-APPLE-RADIUS=100;X-TITLE
 =Salle de Chisaz:geo:46.549609,6.576714
END:VEVENT
BEGIN:VTIMEZONE
TZID:Europe/Paris
X-LIC-LOCATION:Europe/Paris
BEGIN:STANDARD
DTSTART:20251026T020000
TZOFFSETFROM:+0200
TZOFFSETTO:+0100
TZNAME:CET
END:STANDARD
END:VTIMEZONE
END:VCALENDAR