BEGIN:VCALENDAR
VERSION:2.0
PRODID:-//wp-events-plugin.com//7.2.3.1//EN
TZID:Europe/Paris
X-WR-TIMEZONE:Europe/Paris
BEGIN:VEVENT
UID:106889@l-agenda.ch
DTSTART;TZID=Europe/Paris:20240421T170000
DTEND;TZID=Europe/Paris:20240421T170000
DTSTAMP:20240409T150833Z
URL:https://www.l-agenda.ch/evenements/dalla-biblioteca-di-vivaldi/
SUMMARY:Dalla Biblioteca di Vivaldi?
DESCRIPTION:À l’honneur\, un manuscrit copié par un élève et ami d’
 Antonio Vivaldi qui a fait l’objet d’un album éponyme sorti en 2021. 
 Parmi les sonates pour violon et basse continue de ce manuscrit\, Vincent 
 Bernhardt a découvert une nouvelle sonate de Vivaldi… \n\nAvec Sue-Ying
  Koang\, violon et Vincent Bernhardt\, clavecin\n\nPar l'association Alta 
 Musical\nConcert d’ouverture des Les Concerts-Causeries de Chailly
ATTACH;FMTTYPE=image/jpeg:https://www.l-agenda.ch/wp-content/uploads/2024/
 04/Alta-Musica.jpg
CATEGORIES:Orchestre | Ensemble | Instrument | Chambre,Classique
LOCATION:Temple de Chailly\, Avenue du Temple 2\, Lausanne\, VD\, 1012\, La
 usanne\, Suisse
GEO:46.528527;6.653683
X-APPLE-STRUCTURED-LOCATION;VALUE=URI;X-ADDRESS=Avenue du Temple 2\, Lausan
 ne\, VD\, 1012\, Lausanne\, Suisse;X-APPLE-RADIUS=100;X-TITLE=Temple de Ch
 ailly:geo:46.528527,6.653683
END:VEVENT
BEGIN:VTIMEZONE
TZID:Europe/Paris
X-LIC-LOCATION:Europe/Paris
BEGIN:DAYLIGHT
DTSTART:20240331T030000
TZOFFSETFROM:+0100
TZOFFSETTO:+0200
TZNAME:CEST
END:DAYLIGHT
END:VTIMEZONE
END:VCALENDAR