BEGIN:VCALENDAR
VERSION:2.0
PRODID:-//wp-events-plugin.com//7.2.3.1//EN
TZID:Europe/Paris
X-WR-TIMEZONE:Europe/Paris
BEGIN:VEVENT
UID:120525@l-agenda.ch
DTSTART;TZID=Europe/Paris:20260424T200000
DTEND;TZID=Europe/Paris:20260424T200000
DTSTAMP:20260326T115347Z
URL:https://www.l-agenda.ch/evenements/constance-mozart-ou-le-genie-amoure
 ux-2026-04-22-2026-04-23-2026-04-24/
SUMMARY:Constance Mozart ou Le génie amoureux
DESCRIPTION:Jean Chollet s'intéresse au parcours qu'a eu Constance Mozart 
 après la mort de son époux\, Wolfgang Amadeus
ATTACH;FMTTYPE=image/jpeg:https://www.l-agenda.ch/wp-content/uploads/2026/
 03/Constance-Mozart.jpg
CATEGORIES:Classique,Comédie musicale | Spectacle musical,Théâtre
LOCATION:Eglise de Cheseaux\, Route de Lausanne 1\, Cheseaux\, VD\, 1033\, 
 Lausanne\, Suisse
GEO:46.585391;6.605096
X-APPLE-STRUCTURED-LOCATION;VALUE=URI;X-ADDRESS=Route de Lausanne 1\, Chese
 aux\, VD\, 1033\, Lausanne\, Suisse;X-APPLE-RADIUS=100;X-TITLE=Eglise de C
 heseaux:geo:46.585391,6.605096
END:VEVENT
BEGIN:VTIMEZONE
TZID:Europe/Paris
X-LIC-LOCATION:Europe/Paris
BEGIN:DAYLIGHT
DTSTART:20260329T030000
TZOFFSETFROM:+0100
TZOFFSETTO:+0200
TZNAME:CEST
END:DAYLIGHT
END:VTIMEZONE
END:VCALENDAR