BEGIN:VCALENDAR
VERSION:2.0
PRODID:-//wp-events-plugin.com//7.2.3.1//EN
TZID:Europe/Paris
X-WR-TIMEZONE:Europe/Paris
BEGIN:VEVENT
UID:105397@l-agenda.ch
DTSTART;TZID=Europe/Paris:20250516T190000
DTEND;TZID=Europe/Paris:20250516T190000
DTSTAMP:20250507T170046Z
URL:https://www.l-agenda.ch/evenements/concours-dinterpretation-musicale-d
 e-lausanne-2-2024-06-14/
SUMMARY:Concours d'Interprétation Musicale de Lausanne
DESCRIPTION:Concert d'ouverture "Les Noces et les Lauriers"
ATTACH;FMTTYPE=image/jpeg:https://www.l-agenda.ch/wp-content/uploads/2024/
 02/Concours-dinterpretation-musicale.jpg
CATEGORIES:Classique,Orchestre | Ensemble | Instrument | Chambre
LOCATION:Casino de Montbenon\, Allée Ernest-Ansermet 3\, Lausanne\, VD\, 1
 003\, Lausanne\, Suisse
GEO:46.52046;6.62486
X-APPLE-STRUCTURED-LOCATION;VALUE=URI;X-ADDRESS=Allée Ernest-Ansermet 3\, 
 Lausanne\, VD\, 1003\, Lausanne\, Suisse;X-APPLE-RADIUS=100;X-TITLE=Casino
  de Montbenon:geo:46.52046,6.62486
END:VEVENT
BEGIN:VTIMEZONE
TZID:Europe/Paris
X-LIC-LOCATION:Europe/Paris
BEGIN:DAYLIGHT
DTSTART:20250330T030000
TZOFFSETFROM:+0100
TZOFFSETTO:+0200
TZNAME:CEST
END:DAYLIGHT
END:VTIMEZONE
END:VCALENDAR