BEGIN:VCALENDAR
VERSION:2.0
PRODID:-//wp-events-plugin.com//7.2.3.1//EN
TZID:Europe/Paris
X-WR-TIMEZONE:Europe/Paris
BEGIN:VEVENT
UID:108713@l-agenda.ch
DTSTART;TZID=Europe/Paris:20251112T190000
DTEND;TZID=Europe/Paris:20251112T190000
DTSTAMP:20250926T140627Z
URL:https://www.l-agenda.ch/evenements/concours-de-geneve-finale-compositi
 on/
SUMMARY:Concours de Genève - Finale - Alto
DESCRIPTION:Avec l'Orchestre de la Suisse Romande
ATTACH;FMTTYPE=image/jpeg:https://www.l-agenda.ch/wp-content/uploads/2024/
 08/Concours-de-Geneve-1.jpg
CATEGORIES:Classique,Orchestre | Ensemble | Instrument | Chambre
LOCATION:Victoria Hall\, Rue Général-Dufour 14\, Genève\, GE\, 1204\, Ge
 nève\, Suisse
GEO:46.201402;6.141062
X-APPLE-STRUCTURED-LOCATION;VALUE=URI;X-ADDRESS=Rue Général-Dufour 14\, G
 enève\, GE\, 1204\, Genève\, Suisse;X-APPLE-RADIUS=100;X-TITLE=Victoria 
 Hall:geo:46.201402,6.141062
END:VEVENT
BEGIN:VTIMEZONE
TZID:Europe/Paris
X-LIC-LOCATION:Europe/Paris
BEGIN:STANDARD
DTSTART:20251026T020000
TZOFFSETFROM:+0200
TZOFFSETTO:+0100
TZNAME:CET
END:STANDARD
END:VTIMEZONE
END:VCALENDAR