BEGIN:VCALENDAR
VERSION:2.0
PRODID:-//wp-events-plugin.com//7.2.3.1//EN
TZID:Europe/Paris
X-WR-TIMEZONE:Europe/Paris
BEGIN:VEVENT
UID:115373@l-agenda.ch
DTSTART;TZID=Europe/Paris:20250710T210000
DTEND;TZID=Europe/Paris:20250710T210000
DTSTAMP:20250519T081904Z
URL:https://www.l-agenda.ch/evenements/concert-de-pleine-lune-2025/
SUMMARY:Concert de Pleine Lune 2025
DESCRIPTION:Création: Stabat Mater de Pergolèse et musique arabe
ATTACH;FMTTYPE=image/jpeg:https://www.l-agenda.ch/wp-content/uploads/2025/
 05/Concert-de-Pleine-Lune-2025.jpg
CATEGORIES:Classique,Opéra | Lyrique | Voix,Orchestre | Ensemble |
 Instrument | Chambre
LOCATION:Château de Nyon\, Place du Château 5\, Nyon\, VD\, 1260\, Nyon\,
  Suisse
GEO:46.381944;6.240856
X-APPLE-STRUCTURED-LOCATION;VALUE=URI;X-ADDRESS=Place du Château 5\, Nyon\
 , VD\, 1260\, Nyon\, Suisse;X-APPLE-RADIUS=100;X-TITLE=Château de Nyon:ge
 o:46.381944,6.240856
END:VEVENT
BEGIN:VTIMEZONE
TZID:Europe/Paris
X-LIC-LOCATION:Europe/Paris
BEGIN:DAYLIGHT
DTSTART:20250330T030000
TZOFFSETFROM:+0100
TZOFFSETTO:+0200
TZNAME:CEST
END:DAYLIGHT
END:VTIMEZONE
END:VCALENDAR